BEGIN:VCALENDAR
VERSION:2.0
PRODID:-//Office of Justice Programs//NONSGML Event Calendar//EN
BEGIN:VEVENT
UID:59ee44ce-2cba-42cf-9c19-8e1413bff395
DTSTART;TZID=UTC:20260819T130000
SEQUENCE:0
TRANSP:OPAQUE
DTEND;TZID=UTC:20260820T210000
LOCATION:https://www.ojp.gov/events/following-evidence-child-abuse-and-chil
 d-exploitation-cases-12
SUMMARY:Following the Evidence in Child Abuse and Child Exploitation Cases
CLASS:PUBLIC
DESCRIPTION:Más información sobre este evento: https://www.ojp.gov/events
 /following-evidence-child-abuse-and-child-exploitation-cases-12
DTSTAMP:20260410T203559Z
END:VEVENT
END:VCALENDAR