BEGIN:VCALENDAR
VERSION:2.0
PRODID:-//Office of Justice Programs//NONSGML Event Calendar//EN
BEGIN:VEVENT
UID:459e602d-4aad-466a-8332-c33202fc7325
DTSTART;TZID=UTC:20260521T140000
SEQUENCE:0
TRANSP:OPAQUE
DTEND;TZID=UTC:20260522T210000
LOCATION:https://www.ojp.gov/events/presenting-evidence-child-forensic-inte
 rviews-10
SUMMARY:Presenting Evidence in Child Forensic Interviews
CLASS:PUBLIC
DESCRIPTION:Más información sobre este evento: https://www.ojp.gov/events
 /presenting-evidence-child-forensic-interviews-10
DTSTAMP:20260410T203540Z
END:VEVENT
END:VCALENDAR