BEGIN:VCALENDAR
VERSION:2.0
PRODID:-//Office of Justice Programs//NONSGML Event Calendar//EN
BEGIN:VEVENT
UID:e6d0c3ae-c760-4474-977e-2fb9aa905dfa
DTSTART;TZID=UTC:20260528T150000
SEQUENCE:0
TRANSP:OPAQUE
DTEND;TZID=UTC:20260528T220000
LOCATION:https://www.ojp.gov/events/child-abuse-suspicion-disclosure-7
SUMMARY:Child Abuse: From Suspicion to Disclosure
CLASS:PUBLIC
DESCRIPTION:Más información sobre este evento: https://www.ojp.gov/events
 /child-abuse-suspicion-disclosure-7
DTSTAMP:20260417T181959Z
END:VEVENT
END:VCALENDAR