BEGIN:VCALENDAR
VERSION:2.0
PRODID:-//Office of Justice Programs//NONSGML Event Calendar//EN
BEGIN:VEVENT
UID:ded9f710-cc3f-4fd0-95a5-127f5f3e0813
DTSTART;TZID=UTC:20260421T180000
SEQUENCE:0
TRANSP:OPAQUE
DTEND;TZID=UTC:20260421T190000
LOCATION:https://www.ojp.gov/events/entity-management-weekly-training-webin
 ar-20
SUMMARY:Entity Management Weekly Training Webinar
CLASS:PUBLIC
DESCRIPTION:Más información sobre este evento: https://www.ojp.gov/events
 /entity-management-weekly-training-webinar-20
DTSTAMP:20260410T203519Z
END:VEVENT
END:VCALENDAR