BEGIN:VCALENDAR
VERSION:2.0
PRODID:-//Office of Justice Programs//NONSGML Event Calendar//EN
BEGIN:VEVENT
UID:74e79fde-b9c3-4a2e-8cf9-d92d5d977da0
DTSTART;TZID=UTC:20260506T170000
SEQUENCE:0
TRANSP:OPAQUE
DTEND;TZID=UTC:20260506T180000
LOCATION:https://www.ojp.gov/events/bja-fy25-de-escalation-and-crisis-respo
 nse-training
SUMMARY:BJA FY25 De-escalation and Crisis Response Training
CLASS:PUBLIC
DESCRIPTION:Más información sobre este evento: https://www.ojp.gov/events
 /bja-fy25-de-escalation-and-crisis-response-training
DTSTAMP:20260420T224217Z
END:VEVENT
END:VCALENDAR