BEGIN:VCALENDAR
VERSION:2.0
PRODID:-//Office of Justice Programs//NONSGML Event Calendar//EN
BEGIN:VEVENT
UID:0b82aab4-77db-4b5f-9b6a-bf7a8ae52a11
DTSTART;TZID=UTC:20210302T190000
SEQUENCE:0
TRANSP:OPAQUE
DTEND;TZID=UTC:20210302T200000
LOCATION:https://www.ojp.gov/events/transforming-dispatch-and-crisis-respon
 se-services-meeting-challenges-innovation
SUMMARY:Transforming Dispatch and Crisis Response Services: Meeting Challen
 ges with Innovation
CLASS:PUBLIC
DESCRIPTION:Learn more about this event: https://www.ojp.gov/events/transfo
 rming-dispatch-and-crisis-response-services-meeting-challenges-innovation
DTSTAMP:20260409T042844Z
END:VEVENT
END:VCALENDAR