BEGIN:VCALENDAR
VERSION:2.0
PRODID:-//Office of Justice Programs//NONSGML Event Calendar//EN
BEGIN:VEVENT
UID:557a1db9-3eb9-4af9-85fc-39ae1fa0f282
DTSTART;TZID=UTC:20210406T140000
SEQUENCE:0
TRANSP:OPAQUE
DTEND;TZID=UTC:20210408T230000
LOCATION:https://www.ojp.gov/events/child-abduction-response-team-training-
 cart
SUMMARY:Child Abduction Response Team Training (CART)
CLASS:PUBLIC
DESCRIPTION:Learn more about this event: https://www.ojp.gov/events/child-a
 bduction-response-team-training-cart
DTSTAMP:20260419T162228Z
END:VEVENT
END:VCALENDAR