BEGIN:VCALENDAR
VERSION:2.0
PRODID:-//Office of Justice Programs//NONSGML Event Calendar//EN
BEGIN:VEVENT
UID:340e1f1c-11e8-415d-a398-dd31e4d0a7ac
DTSTART;VALUE=DATE:20210311
SEQUENCE:0
TRANSP:OPAQUE
DTEND;VALUE=DATE:20210313
LOCATION:https://www.ojp.gov/events/public-safety-and-public-health-partner
 ships-address-stimulants
SUMMARY:Public Safety and Public Health Partnerships to Address Stimulants
CLASS:PUBLIC
DESCRIPTION:Learn more about this event: https://www.ojp.gov/events/public-
 safety-and-public-health-partnerships-address-stimulants
X-MICROSOFT-CDO-ALLDAYEVENT:TRUE
DTSTAMP:20260425T102522Z
END:VEVENT
END:VCALENDAR