BEGIN:VCALENDAR
VERSION:2.0
PRODID:-//Office of Justice Programs//NONSGML Event Calendar//EN
BEGIN:VEVENT
UID:6bcce9de-5d95-481e-9575-f052a4aff3d4
DTSTART;VALUE=DATE:20210316
SEQUENCE:0
TRANSP:OPAQUE
DTEND;VALUE=DATE:20210318
LOCATION:https://www.ojp.gov/events/verbal-de-escalation-crisis-communicati
 on
SUMMARY:Verbal De-Escalation & Crisis Communication
CLASS:PUBLIC
DESCRIPTION:Learn more about this event: https://www.ojp.gov/events/verbal-
 de-escalation-crisis-communication
X-MICROSOFT-CDO-ALLDAYEVENT:TRUE
DTSTAMP:20260413T232720Z
END:VEVENT
END:VCALENDAR