BEGIN:VCALENDAR
VERSION:2.0
PRODID:-//Office of Justice Programs//NONSGML Event Calendar//EN
BEGIN:VEVENT
UID:94ae5b9b-b088-47cb-8636-a9bc01d24e41
DTSTART;TZID=UTC:20210318T170000
SEQUENCE:0
TRANSP:OPAQUE
DTEND;TZID=UTC:20210318T183000
LOCATION:https://www.ojp.gov/events/application-mechanics-submitting-applic
 ation-9
SUMMARY:Application Mechanics: Submitting an Application
CLASS:PUBLIC
DESCRIPTION:Learn more about this event: https://www.ojp.gov/events/applica
 tion-mechanics-submitting-application-9
DTSTAMP:20260425T125238Z
END:VEVENT
END:VCALENDAR