BEGIN:VCALENDAR
VERSION:2.0
PRODID:-//Office of Justice Programs//NONSGML Event Calendar//EN
BEGIN:VEVENT
UID:d82b8dc6-fce3-4aae-a006-e9cf4489b34a
DTSTART;TZID=UTC:20210401T170000
SEQUENCE:0
TRANSP:OPAQUE
DTEND;TZID=UTC:20210401T183000
LOCATION:https://www.ojp.gov/events/application-mechanics-submitting-applic
 ation-11
SUMMARY:Application Mechanics: Submitting an Application
CLASS:PUBLIC
DESCRIPTION:Learn more about this event: https://www.ojp.gov/events/applica
 tion-mechanics-submitting-application-11
DTSTAMP:20260425T125239Z
END:VEVENT
END:VCALENDAR