BEGIN:VCALENDAR
VERSION:2.0
PRODID:-//Office of Justice Programs//NONSGML Event Calendar//EN
BEGIN:VEVENT
UID:ce68c73d-cbcb-4f39-85e9-fcd5a4616b0e
DTSTART;TZID=UTC:20210408T170000
SEQUENCE:0
TRANSP:OPAQUE
DTEND;TZID=UTC:20210408T183000
LOCATION:https://www.ojp.gov/events/application-mechanics-submitting-applic
 ation-12
SUMMARY:Application Mechanics: Submitting an Application
CLASS:PUBLIC
DESCRIPTION:Learn more about this event: https://www.ojp.gov/events/applica
 tion-mechanics-submitting-application-12
DTSTAMP:20260425T124005Z
END:VEVENT
END:VCALENDAR