BEGIN:VCALENDAR
VERSION:2.0
PRODID:-//Office of Justice Programs//NONSGML Event Calendar//EN
BEGIN:VEVENT
UID:573799f9-4776-4fd4-a848-4944ddfc284d
DTSTART;TZID=UTC:20210412T190000
SEQUENCE:0
TRANSP:OPAQUE
DTEND;TZID=UTC:20210412T203000
LOCATION:https://www.ojp.gov/events/application-mechanics-submitting-applic
 ation-13
SUMMARY:Application Mechanics: Submitting an Application
CLASS:PUBLIC
DESCRIPTION:Learn more about this event: https://www.ojp.gov/events/applica
 tion-mechanics-submitting-application-13
DTSTAMP:20260425T125209Z
END:VEVENT
END:VCALENDAR