BEGIN:VCALENDAR
VERSION:2.0
PRODID:-//Office of Justice Programs//NONSGML Event Calendar//EN
BEGIN:VEVENT
UID:3bb6297f-cf8d-4bcb-b96b-7ffbe4342bfb
DTSTART;TZID=UTC:20210323T190000
SEQUENCE:0
TRANSP:OPAQUE
DTEND;TZID=UTC:20210323T203000
LOCATION:https://www.ojp.gov/events/community-practice-virtual-gathering-na
 tional-crime-victims-rights-week-and-victims-rights
SUMMARY:Community of Practice Virtual Gathering: National Crime Victims' Ri
 ghts Week and Victims' Rights in Tribal Communities
CLASS:PUBLIC
DESCRIPTION:Learn more about this event: https://www.ojp.gov/events/communi
 ty-practice-virtual-gathering-national-crime-victims-rights-week-and-victi
 ms-rights
DTSTAMP:20260424T111442Z
END:VEVENT
END:VCALENDAR