BEGIN:VCALENDAR
VERSION:2.0
PRODID:-//Office of Justice Programs//NONSGML Event Calendar//EN
BEGIN:VEVENT
UID:3a839443-fabe-4060-b5a7-7d3d9da355f4
DTSTART;TZID=UTC:20210505T190000
SEQUENCE:0
TRANSP:OPAQUE
DTEND;TZID=UTC:20210505T203000
LOCATION:https://www.ojp.gov/events/wellness-program-implementation-series-
 part-5-components-wellness-program-peer-support
SUMMARY:Wellness Program Implementation Series (Part 5): Components of a We
 llness Program: Peer Support
CLASS:PUBLIC
DESCRIPTION:Learn more about this event: https://www.ojp.gov/events/wellnes
 s-program-implementation-series-part-5-components-wellness-program-peer-su
 pport
DTSTAMP:20210514T114803Z
END:VEVENT
END:VCALENDAR