BEGIN:VCALENDAR
VERSION:2.0
PRODID:-//Office of Justice Programs//NONSGML Event Calendar//EN
BEGIN:VEVENT
UID:2e434196-2399-4d4e-a5c9-9305d6637d4a
DTSTART;VALUE=DATE:20210302
SEQUENCE:0
TRANSP:OPAQUE
DTEND;VALUE=DATE:20210501
LOCATION:https://www.ojp.gov/events/nij-virtual-conference-school-safety-20
 21-recording
SUMMARY:NIJ Virtual Conference on School Safety 2021 - Recording
CLASS:PUBLIC
DESCRIPTION:Learn more about this event: https://www.ojp.gov/events/nij-vir
 tual-conference-school-safety-2021-recording
X-MICROSOFT-CDO-ALLDAYEVENT:TRUE
DTSTAMP:20260425T143959Z
END:VEVENT
END:VCALENDAR