BEGIN:VCALENDAR
VERSION:2.0
PRODID:-//Office of Justice Programs//NONSGML Event Calendar//EN
BEGIN:VEVENT
UID:910bf835-3cf7-4853-8f5b-4cb0682ecf8b
DTSTART;TZID=UTC:20210324T200000
SEQUENCE:0
TRANSP:OPAQUE
DTEND;TZID=UTC:20210324T210000
LOCATION:https://www.ojp.gov/events/funding-school-safety-department-justic
 e-grant-opportunities
SUMMARY:Funding School Safety: Department of Justice Grant Opportunities
CLASS:PUBLIC
DESCRIPTION:Learn more about this event: https://www.ojp.gov/events/funding
 -school-safety-department-justice-grant-opportunities
DTSTAMP:20260410T060607Z
END:VEVENT
END:VCALENDAR