BEGIN:VCALENDAR
VERSION:2.0
PRODID:-//Office of Justice Programs//NONSGML Event Calendar//EN
BEGIN:VEVENT
UID:74fc8bca-d031-436c-99ea-84f1c26be498
DTSTART;TZID=UTC:20210331T180000
SEQUENCE:0
TRANSP:OPAQUE
DTEND;TZID=UTC:20210331T191500
LOCATION:https://www.ojp.gov/events/becoming-trauma-informed-and-moving-tra
 uma-responsive-0
SUMMARY:Becoming Trauma Informed and Moving to Trauma Responsive
CLASS:PUBLIC
DESCRIPTION:Learn more about this event: https://www.ojp.gov/events/becomin
 g-trauma-informed-and-moving-trauma-responsive-0
DTSTAMP:20260413T094341Z
END:VEVENT
END:VCALENDAR