BEGIN:VCALENDAR
VERSION:2.0
PRODID:-//Office of Justice Programs//NONSGML Event Calendar//EN
BEGIN:VEVENT
UID:885f2212-5624-4b5c-bed4-10bcb9ddcd59
DTSTART;VALUE=DATE:20210426
SEQUENCE:0
TRANSP:OPAQUE
DTEND;VALUE=DATE:20210501
LOCATION:https://www.ojp.gov/events/reentry-week-2021
SUMMARY:Reentry Week 2021
CLASS:PUBLIC
DESCRIPTION:Learn more about this event: https://www.ojp.gov/events/reentry
 -week-2021
X-MICROSOFT-CDO-ALLDAYEVENT:TRUE
DTSTAMP:20260416T012049Z
END:VEVENT
END:VCALENDAR