BEGIN:VCALENDAR
VERSION:2.0
PRODID:-//Office of Justice Programs//NONSGML Event Calendar//EN
BEGIN:VEVENT
UID:279c38ec-9546-4660-ad00-bb7a505d554c
DTSTART;TZID=UTC:20210423T190000
SEQUENCE:0
TRANSP:OPAQUE
DTEND;TZID=UTC:20210423T203000
LOCATION:https://www.ojp.gov/events/2021-national-crime-victims-service-awa
 rds-ceremony
SUMMARY:2021 National Crime Victims’ Service Awards Ceremony
CLASS:PUBLIC
DESCRIPTION:Learn more about this event: https://www.ojp.gov/events/2021-na
 tional-crime-victims-service-awards-ceremony
DTSTAMP:20210617T224116Z
END:VEVENT
END:VCALENDAR