BEGIN:VCALENDAR
VERSION:2.0
PRODID:-//Office of Justice Programs//NONSGML Event Calendar//EN
BEGIN:VEVENT
UID:e64d78c9-e8f9-4cb5-90ae-43b256b981aa
DTSTART;TZID=UTC:20210422T180000
SEQUENCE:0
TRANSP:OPAQUE
DTEND;TZID=UTC:20210422T190000
LOCATION:https://www.ojp.gov/events/path-recovery-story-peer-support-specia
 list
SUMMARY:A Path to Recovery—The Story of a Peer Support Specialist
CLASS:PUBLIC
DESCRIPTION:Learn more about this event: https://www.ojp.gov/events/path-re
 covery-story-peer-support-specialist
DTSTAMP:20260425T102522Z
END:VEVENT
END:VCALENDAR