BEGIN:VCALENDAR
VERSION:2.0
PRODID:-//Office of Justice Programs//NONSGML Event Calendar//EN
BEGIN:VEVENT
UID:0f9362a3-22b0-42ac-a3a4-31caffdec6d2
DTSTART;TZID=UTC:20210428T170000
SEQUENCE:0
TRANSP:OPAQUE
DTEND;TZID=UTC:20210428T180000
LOCATION:https://www.ojp.gov/events/using-distance-based-child-parent-engag
 ement-strategies-correctional-facilities
SUMMARY:Using Distance-Based Child-Parent Engagement Strategies in Correcti
 onal Facilities
CLASS:PUBLIC
DESCRIPTION:Learn more about this event: https://www.ojp.gov/events/using-d
 istance-based-child-parent-engagement-strategies-correctional-facilities
DTSTAMP:20260424T234425Z
END:VEVENT
END:VCALENDAR