BEGIN:VCALENDAR
VERSION:2.0
PRODID:-//Office of Justice Programs//NONSGML Event Calendar//EN
BEGIN:VEVENT
UID:83b54481-5783-4f36-8fc8-493fc9a59d0f
DTSTART;TZID=UTC:20210427T170000
SEQUENCE:0
TRANSP:OPAQUE
DTEND;TZID=UTC:20210427T180000
LOCATION:https://www.ojp.gov/events/post-mortem-computed-tomography-gunshot
 -wounds
SUMMARY:Post-mortem Computed Tomography of Gunshot Wounds
CLASS:PUBLIC
DESCRIPTION:Learn more about this event: https://www.ojp.gov/events/post-mo
 rtem-computed-tomography-gunshot-wounds
DTSTAMP:20210514T103737Z
END:VEVENT
END:VCALENDAR