BEGIN:VCALENDAR
VERSION:2.0
PRODID:-//Office of Justice Programs//NONSGML Event Calendar//EN
BEGIN:VEVENT
UID:e5891cf5-dce9-4c96-9d53-a2f5126d6c52
DTSTART;TZID=UTC:20210415T190000
SEQUENCE:0
TRANSP:OPAQUE
DTEND;TZID=UTC:20210415T203000
LOCATION:https://www.ojp.gov/events/talking-child-victims-prosecutors
SUMMARY:Talking to Child Victims for Prosecutors
CLASS:PUBLIC
DESCRIPTION:Learn more about this event: https://www.ojp.gov/events/talking
 -child-victims-prosecutors
DTSTAMP:20210707T145236Z
END:VEVENT
END:VCALENDAR