BEGIN:VCALENDAR
VERSION:2.0
PRODID:-//Office of Justice Programs//NONSGML Event Calendar//EN
BEGIN:VEVENT
UID:566a9d99-d493-4a6e-9dfe-f8251e318ed3
DTSTART;TZID=UTC:20210426T170000
SEQUENCE:0
TRANSP:OPAQUE
DTEND;TZID=UTC:20210426T180000
LOCATION:https://www.ojp.gov/events/building-partnerships-successful-reentr
 y
SUMMARY:Building Partnerships for Successful Reentry
CLASS:PUBLIC
DESCRIPTION:Learn more about this event: https://www.ojp.gov/events/buildin
 g-partnerships-successful-reentry
DTSTAMP:20260411T232456Z
END:VEVENT
END:VCALENDAR