BEGIN:VCALENDAR
VERSION:2.0
PRODID:-//Office of Justice Programs//NONSGML Event Calendar//EN
BEGIN:VEVENT
UID:d1cdb6f4-e0e7-4ce2-8e1c-8c3af51af2eb
DTSTART;TZID=UTC:20210517T170000
SEQUENCE:0
TRANSP:OPAQUE
DTEND;TZID=UTC:20210517T180000
LOCATION:https://www.ojp.gov/events/ovc-fy-2021-transforming-americas-respo
 nse-elder-abuse-enhanced-multidisciplinary-teams
SUMMARY:OVC FY 2021 Transforming America's Response to Elder Abuse: Enhance
 d Multidisciplinary Teams for Older Victims of Financial Exploitation and 
 Abuse Pre-Application Webinar
CLASS:PUBLIC
DESCRIPTION:Learn more about this event: https://www.ojp.gov/events/ovc-fy-
 2021-transforming-americas-response-elder-abuse-enhanced-multidisciplinary
 -teams
DTSTAMP:20260422T214739Z
END:VEVENT
END:VCALENDAR