BEGIN:VCALENDAR
VERSION:2.0
PRODID:-//Office of Justice Programs//NONSGML Event Calendar//EN
BEGIN:VEVENT
UID:0a550674-57c7-4ded-ba81-44e15689e3a0
DTSTART;TZID=UTC:20210520T180000
SEQUENCE:0
TRANSP:OPAQUE
DTEND;TZID=UTC:20210520T190000
LOCATION:https://www.ojp.gov/events/law-enforcement-led-diversion-and-menta
 l-health-and-opioid-outreach-innovations
SUMMARY:Law Enforcement-Led Diversion and Mental Health and Opioid Outreach
  Innovations
CLASS:PUBLIC
DESCRIPTION:Learn more about this event: https://www.ojp.gov/events/law-enf
 orcement-led-diversion-and-mental-health-and-opioid-outreach-innovations
DTSTAMP:20260424T020907Z
END:VEVENT
END:VCALENDAR