BEGIN:VCALENDAR
VERSION:2.0
PRODID:-//Office of Justice Programs//NONSGML Event Calendar//EN
BEGIN:VEVENT
UID:fac4a50a-fcf5-4044-bb28-3fcaa9bb0c6a
DTSTART;TZID=UTC:20210518T180000
SEQUENCE:0
TRANSP:OPAQUE
DTEND;TZID=UTC:20210518T190000
LOCATION:https://www.ojp.gov/events/fy-2021-cossap-site-based-solicitation-
 webinar
SUMMARY:FY 2021 COSSAP Site-Based Solicitation Webinar
CLASS:PUBLIC
DESCRIPTION:Learn more about this event: https://www.ojp.gov/events/fy-2021
 -cossap-site-based-solicitation-webinar
DTSTAMP:20260424T222745Z
END:VEVENT
END:VCALENDAR