BEGIN:VCALENDAR
VERSION:2.0
PRODID:-//Office of Justice Programs//NONSGML Event Calendar//EN
BEGIN:VEVENT
UID:ddbf53db-02e9-4aba-b373-aa70c0c27212
DTSTART;TZID=UTC:20210609T170000
SEQUENCE:0
TRANSP:OPAQUE
DTEND;TZID=UTC:20210609T180000
LOCATION:https://www.ojp.gov/events/ovc-fy-2021-national-center-culturally-
 responsive-victim-services-pre-application-webinar
SUMMARY:OVC FY 2021 National Center for Culturally Responsive Victim Servic
 es Pre-Application Webinar
CLASS:PUBLIC
DESCRIPTION:Learn more about this event: https://www.ojp.gov/events/ovc-fy-
 2021-national-center-culturally-responsive-victim-services-pre-application
 -webinar
DTSTAMP:20260424T192330Z
END:VEVENT
END:VCALENDAR