BEGIN:VCALENDAR
VERSION:2.0
PRODID:-//Office of Justice Programs//NONSGML Event Calendar//EN
BEGIN:VEVENT
UID:0fe34661-421e-4eee-babf-5736ef27f322
DTSTART;TZID=UTC:20210706T200000
SEQUENCE:0
TRANSP:OPAQUE
DTEND;TZID=UTC:20210706T210000
LOCATION:https://www.ojp.gov/events/tribal-access-program-national-crime-in
 formation-application-webinar
SUMMARY:Tribal Access Program for National Crime Information Application We
 binar
CLASS:PUBLIC
DESCRIPTION:Learn more about this event: https://www.ojp.gov/events/tribal-
 access-program-national-crime-information-application-webinar
DTSTAMP:20260425T030219Z
END:VEVENT
END:VCALENDAR