BEGIN:VCALENDAR
VERSION:2.0
PRODID:-//Office of Justice Programs//NONSGML Event Calendar//EN
BEGIN:VEVENT
UID:abc96a0e-d4a8-4b8d-8729-90ddf8ae1efe
DTSTART;TZID=UTC:20210708T190000
SEQUENCE:0
TRANSP:OPAQUE
DTEND;TZID=UTC:20210708T200000
LOCATION:https://www.ojp.gov/events/tribal-access-program-national-crime-in
 formation-application-webinar-0
SUMMARY:Tribal Access Program for National Crime Information Application We
 binar
CLASS:PUBLIC
DESCRIPTION:Learn more about this event: https://www.ojp.gov/events/tribal-
 access-program-national-crime-information-application-webinar-0
DTSTAMP:20260424T212122Z
END:VEVENT
END:VCALENDAR