BEGIN:VCALENDAR
VERSION:2.0
PRODID:-//Office of Justice Programs//NONSGML Event Calendar//EN
BEGIN:VEVENT
UID:df4c16cc-ff6f-448f-99fb-6d113f579a0b
DTSTART;TZID=UTC:20210729T190000
SEQUENCE:0
TRANSP:OPAQUE
DTEND;TZID=UTC:20210729T200000
LOCATION:https://www.ojp.gov/events/tribal-access-program-national-crime-in
 formation-application-webinar-6
SUMMARY:Tribal Access Program for National Crime Information Application We
 binar
CLASS:PUBLIC
DESCRIPTION:Learn more about this event: https://www.ojp.gov/events/tribal-
 access-program-national-crime-information-application-webinar-6
DTSTAMP:20260425T002656Z
END:VEVENT
END:VCALENDAR