BEGIN:VCALENDAR
VERSION:2.0
PRODID:-//Office of Justice Programs//NONSGML Event Calendar//EN
BEGIN:VEVENT
UID:9c605d08-a68c-4562-b258-da9b85db6021
DTSTART;TZID=UTC:20210802T190000
SEQUENCE:0
TRANSP:OPAQUE
DTEND;TZID=UTC:20210802T200000
LOCATION:https://www.ojp.gov/events/tribal-access-program-national-crime-in
 formation-application-webinar-7
SUMMARY:Tribal Access Program for National Crime Information Application We
 binar
CLASS:PUBLIC
DESCRIPTION:Learn more about this event: https://www.ojp.gov/events/tribal-
 access-program-national-crime-information-application-webinar-7
DTSTAMP:20260425T030422Z
END:VEVENT
END:VCALENDAR