BEGIN:VCALENDAR
VERSION:2.0
PRODID:-//Office of Justice Programs//NONSGML Event Calendar//EN
BEGIN:VEVENT
UID:bc3685fb-84c6-4ba4-944e-94a30288485b
DTSTART;TZID=UTC:20210817T200000
SEQUENCE:0
TRANSP:OPAQUE
DTEND;TZID=UTC:20210817T210000
LOCATION:https://www.ojp.gov/events/tribal-access-program-national-crime-in
 formation-application-webinar-10
SUMMARY:Tribal Access Program for National Crime Information Application We
 binar
CLASS:PUBLIC
DESCRIPTION:Learn more about this event: https://www.ojp.gov/events/tribal-
 access-program-national-crime-information-application-webinar-10
DTSTAMP:20260424T001136Z
END:VEVENT
END:VCALENDAR