BEGIN:VCALENDAR
VERSION:2.0
PRODID:-//Office of Justice Programs//NONSGML Event Calendar//EN
BEGIN:VEVENT
UID:a35d176d-cd42-41e1-a700-0aa9b0a8ded8
DTSTART;TZID=UTC:20210819T190000
SEQUENCE:0
TRANSP:OPAQUE
DTEND;TZID=UTC:20210819T200000
LOCATION:https://www.ojp.gov/events/tribal-access-program-national-crime-in
 formation-application-webinar-11
SUMMARY:Tribal Access Program for National Crime Information Application We
 binar
CLASS:PUBLIC
DESCRIPTION:Learn more about this event: https://www.ojp.gov/events/tribal-
 access-program-national-crime-information-application-webinar-11
DTSTAMP:20260425T030538Z
END:VEVENT
END:VCALENDAR