BEGIN:VCALENDAR
VERSION:2.0
PRODID:-//Office of Justice Programs//NONSGML Event Calendar//EN
BEGIN:VEVENT
UID:bee97fb4-462c-4d04-bf6e-58e18be94e36
DTSTART;TZID=UTC:20210720T180000
SEQUENCE:0
TRANSP:OPAQUE
DTEND;TZID=UTC:20210720T193000
LOCATION:https://www.ojp.gov/events/safety-planning-health-and-wellness-act
 ivities
SUMMARY:Safety Planning for Health and Wellness Activities
CLASS:PUBLIC
DESCRIPTION:Learn more about this event: https://www.ojp.gov/events/safety-
 planning-health-and-wellness-activities
DTSTAMP:20260423T224441Z
END:VEVENT
END:VCALENDAR