BEGIN:VCALENDAR
VERSION:2.0
PRODID:-//Office of Justice Programs//NONSGML Event Calendar//EN
BEGIN:VEVENT
UID:64c9f6f4-3355-4517-96bc-489d02b4135c
DTSTART;TZID=UTC:20210726T180000
SEQUENCE:0
TRANSP:OPAQUE
DTEND;TZID=UTC:20210726T193000
LOCATION:https://www.ojp.gov/events/safety-planning-wisawca-project-enough-
 iz-enough
SUMMARY:Safety Planning: Wisáwca Project\, Enough Iz Enough
CLASS:PUBLIC
DESCRIPTION:Learn more about this event: https://www.ojp.gov/events/safety-
 planning-wisawca-project-enough-iz-enough
DTSTAMP:20260413T182254Z
END:VEVENT
END:VCALENDAR