BEGIN:VCALENDAR
VERSION:2.0
PRODID:-//Office of Justice Programs//NONSGML Event Calendar//EN
BEGIN:VEVENT
UID:e81ef03b-29d3-4748-9aa2-5a9eb6632b57
DTSTART;TZID=UTC:20210831T180000
SEQUENCE:0
TRANSP:OPAQUE
DTEND;TZID=UTC:20210831T193000
LOCATION:https://www.ojp.gov/events/advancing-justice-interviewing-and-pres
 enting-testimony-witnesses-violent-crimes
SUMMARY:Advancing Justice: Interviewing and Presenting Testimony of Witness
 es to Violent Crimes
CLASS:PUBLIC
DESCRIPTION:Learn more about this event: https://www.ojp.gov/events/advanci
 ng-justice-interviewing-and-presenting-testimony-witnesses-violent-crimes
DTSTAMP:20260410T083024Z
END:VEVENT
END:VCALENDAR