BEGIN:VCALENDAR
VERSION:2.0
PRODID:-//Office of Justice Programs//NONSGML Event Calendar//EN
BEGIN:VEVENT
UID:8d582578-0c71-41bf-ba03-51cb7aedb8d5
DTSTART;TZID=UTC:20210928T180000
SEQUENCE:0
TRANSP:OPAQUE
DTEND;TZID=UTC:20210928T193000
LOCATION:https://www.ojp.gov/events/mentoring-youth-impacted-opioid-crisis
SUMMARY:Mentoring Youth Impacted by the Opioid Crisis
CLASS:PUBLIC
DESCRIPTION:Learn more about this event: https://www.ojp.gov/events/mentori
 ng-youth-impacted-opioid-crisis
DTSTAMP:20211004T141751Z
END:VEVENT
END:VCALENDAR