BEGIN:VCALENDAR
VERSION:2.0
PRODID:-//Office of Justice Programs//NONSGML Event Calendar//EN
BEGIN:VEVENT
UID:22b7ef0f-4ecd-4744-9f3f-b1a5e37982c5
DTSTART;TZID=UTC:20210923T170000
SEQUENCE:0
TRANSP:OPAQUE
DTEND;TZID=UTC:20210923T180000
LOCATION:https://www.ojp.gov/events/least-us-true-tales-america-and-hope-ti
 me-fentanyl-and-meth
SUMMARY:The Least of Us: True Tales of America and Hope in the Time of Fent
 anyl and Meth
CLASS:PUBLIC
DESCRIPTION:Learn more about this event: https://www.ojp.gov/events/least-u
 s-true-tales-america-and-hope-time-fentanyl-and-meth
DTSTAMP:20211004T163748Z
END:VEVENT
END:VCALENDAR