BEGIN:VCALENDAR
VERSION:2.0
PRODID:-//Office of Justice Programs//NONSGML Event Calendar//EN
BEGIN:VEVENT
UID:9d35bf09-e52c-4560-b981-4145ef3a79f3
DTSTART;VALUE=DATE:20210923
SEQUENCE:0
TRANSP:OPAQUE
DTEND;VALUE=DATE:20210924
LOCATION:https://www.ojp.gov/events/amber-alert-activation-best-practices-4
SUMMARY:AMBER Alert Activation Best Practices
CLASS:PUBLIC
DESCRIPTION:Learn more about this event: https://www.ojp.gov/events/amber-a
 lert-activation-best-practices-4
X-MICROSOFT-CDO-ALLDAYEVENT:TRUE
DTSTAMP:20211004T163744Z
END:VEVENT
END:VCALENDAR