BEGIN:VCALENDAR
VERSION:2.0
PRODID:-//Office of Justice Programs//NONSGML Event Calendar//EN
BEGIN:VEVENT
UID:101c788b-2419-429e-a45d-907399c0f500
DTSTART;TZID=UTC:20211018T153000
SEQUENCE:0
TRANSP:OPAQUE
DTEND;TZID=UTC:20211202T174500
LOCATION:https://www.ojp.gov/events/national-victim-assistance-academy-adva
 nced-trainer-institute
SUMMARY:National Victim Assistance Academy: Advanced Trainer Institute
CLASS:PUBLIC
DESCRIPTION:Learn more about this event: https://www.ojp.gov/events/nationa
 l-victim-assistance-academy-advanced-trainer-institute
DTSTAMP:20260410T140153Z
END:VEVENT
END:VCALENDAR