BEGIN:VCALENDAR
VERSION:2.0
PRODID:-//Office of Justice Programs//NONSGML Event Calendar//EN
BEGIN:VEVENT
UID:f49f06ba-5177-49ba-8b73-25fec5fa2a01
DTSTART;TZID=UTC:20211118T190000
SEQUENCE:0
TRANSP:OPAQUE
DTEND;TZID=UTC:20211118T200000
LOCATION:https://www.ojp.gov/events/justgrants-virtual-qa-award-acceptance-
 5
SUMMARY:JustGrants Virtual Q&A: Award Acceptance
CLASS:PUBLIC
DESCRIPTION:Learn more about this event: https://www.ojp.gov/events/justgra
 nts-virtual-qa-award-acceptance-5
DTSTAMP:20260425T184024Z
END:VEVENT
END:VCALENDAR