BEGIN:VCALENDAR
VERSION:2.0
PRODID:-//Office of Justice Programs//NONSGML Event Calendar//EN
BEGIN:VEVENT
UID:5e4cb372-3695-442c-b03d-7add209af3b2
DTSTART;TZID=UTC:20211102T180000
SEQUENCE:0
TRANSP:OPAQUE
DTEND;TZID=UTC:20211102T193000
LOCATION:https://www.ojp.gov/events/justgrants-virtual-qa-entity-management
 -8
SUMMARY:JustGrants Virtual Q&A: Entity Management
CLASS:PUBLIC
DESCRIPTION:Learn more about this event: https://www.ojp.gov/events/justgra
 nts-virtual-qa-entity-management-8
DTSTAMP:20260425T170607Z
END:VEVENT
END:VCALENDAR