BEGIN:VCALENDAR
VERSION:2.0
PRODID:-//Office of Justice Programs//NONSGML Event Calendar//EN
BEGIN:VEVENT
UID:50df1509-0fc5-4152-87bc-296d9d539cc2
DTSTART;TZID=UTC:20211116T190000
SEQUENCE:0
TRANSP:OPAQUE
DTEND;TZID=UTC:20211116T203000
LOCATION:https://www.ojp.gov/events/untangling-survivor-engagement-promotin
 g-comprehensive-collaboration
SUMMARY:Untangling Survivor Engagement: Promoting Comprehensive Collaborati
 on
CLASS:PUBLIC
DESCRIPTION:Learn more about this event: https://www.ojp.gov/events/untangl
 ing-survivor-engagement-promoting-comprehensive-collaboration
DTSTAMP:20260425T184211Z
END:VEVENT
END:VCALENDAR