BEGIN:VCALENDAR
VERSION:2.0
PRODID:-//Office of Justice Programs//NONSGML Event Calendar//EN
BEGIN:VEVENT
UID:4ee17c91-a22a-4804-b061-f2bb039aa6be
DTSTART;TZID=UTC:20211213T183000
SEQUENCE:0
TRANSP:OPAQUE
DTEND;TZID=UTC:20211213T200000
LOCATION:https://www.ojp.gov/events/practical-strategies-self-care
SUMMARY:Practical Strategies for Self-Care
CLASS:PUBLIC
DESCRIPTION:Learn more about this event: https://www.ojp.gov/events/practic
 al-strategies-self-care
DTSTAMP:20260425T125428Z
END:VEVENT
END:VCALENDAR