BEGIN:VCALENDAR
VERSION:2.0
PRODID:-//Office of Justice Programs//NONSGML Event Calendar//EN
BEGIN:VEVENT
UID:140e8de5-b95e-4550-8b37-815091b19db8
DTSTART;TZID=UTC:20220118T163000
SEQUENCE:0
TRANSP:OPAQUE
DTEND;TZID=UTC:20220211T174500
LOCATION:https://www.ojp.gov/events/national-victim-assistance-academy-deve
 loping-and-managing-board-directors
SUMMARY:National Victim Assistance Academy: Developing and Managing a Board
  of Directors
CLASS:PUBLIC
DESCRIPTION:Learn more about this event: https://www.ojp.gov/events/nationa
 l-victim-assistance-academy-developing-and-managing-board-directors
DTSTAMP:20260409T151854Z
END:VEVENT
END:VCALENDAR