BEGIN:VCALENDAR
VERSION:2.0
PRODID:-//Office of Justice Programs//NONSGML Event Calendar//EN
BEGIN:VEVENT
UID:d20150ec-d7a8-4240-891e-ed0d1433dabd
DTSTART;TZID=UTC:20220127T200000
SEQUENCE:0
TRANSP:OPAQUE
DTEND;TZID=UTC:20220127T210000
LOCATION:https://www.ojp.gov/events/raising-bar-juvenile-reentry-ways-judge
 s-use-data
SUMMARY:Raising the Bar on Juvenile Reentry: Ways Judges Use Data
CLASS:PUBLIC
DESCRIPTION:Learn more about this event: https://www.ojp.gov/events/raising
 -bar-juvenile-reentry-ways-judges-use-data
DTSTAMP:20260410T111503Z
END:VEVENT
END:VCALENDAR