BEGIN:VCALENDAR
VERSION:2.0
PRODID:-//Office of Justice Programs//NONSGML Event Calendar//EN
BEGIN:VEVENT
UID:cdb14338-23b1-449a-b4d0-038e1fa23121
DTSTART;TZID=UTC:20220413T180000
SEQUENCE:0
TRANSP:OPAQUE
DTEND;TZID=UTC:20220413T193000
LOCATION:https://www.ojp.gov/events/shift-webinar-series-part-5-secondary-t
 rauma-traumatic-stress-behavioral-signs-and-symptoms
SUMMARY:SHIFT Webinar Series Part 5: Secondary Trauma & Traumatic Stress: B
 ehavioral Signs and Symptoms and How To Mitigate
CLASS:PUBLIC
DESCRIPTION:Learn more about this event: https://www.ojp.gov/events/shift-w
 ebinar-series-part-5-secondary-trauma-traumatic-stress-behavioral-signs-an
 d-symptoms
DTSTAMP:20260423T141542Z
END:VEVENT
END:VCALENDAR