BEGIN:VCALENDAR
VERSION:2.0
PRODID:-//Office of Justice Programs//NONSGML Event Calendar//EN
BEGIN:VEVENT
UID:a4994ab9-3bd9-4fff-919e-6970a5f18bd0
DTSTART;TZID=UTC:20220223T190000
SEQUENCE:0
TRANSP:OPAQUE
DTEND;TZID=UTC:20220223T203000
LOCATION:https://www.ojp.gov/events/community-violence-intervention-address
 ing-gangs-coordinating-comprehensive-response
SUMMARY:Community Violence Intervention—Addressing Gangs: Coordinating a 
 Comprehensive Response
CLASS:PUBLIC
DESCRIPTION:Learn more about this event: https://www.ojp.gov/events/communi
 ty-violence-intervention-addressing-gangs-coordinating-comprehensive-respo
 nse
DTSTAMP:20260423T120345Z
END:VEVENT
END:VCALENDAR